BEGIN:VCALENDAR
METHOD:REQUEST
PRODID:-//events.orgNONSGML ical.net 4.0//EN
VERSION:2.0
BEGIN:VEVENT
DTEND;VALUE=DATE:20260425
DTSTAMP:20260422T091845Z
DTSTART;VALUE=DATE:20260425
LOCATION:Richard Rodgers Theatre\, New York
ORGANIZER;CN=:mailto:events@events.org
SEQUENCE:0
SUMMARY:Hamilton (NY)
UID:9935cd36-abb1-41e5-a580-3668e026a740
URL:https://events.org/e/Hamilton-NY/CWUDU6OB
BEGIN:VALARM
ACTION:DISPLAY
SUMMARY:Reminder
TRIGGER:-P1D
END:VALARM
END:VEVENT
END:VCALENDAR
