BEGIN:VCALENDAR
METHOD:REQUEST
PRODID:-//events.orgNONSGML ical.net 4.0//EN
VERSION:2.0
BEGIN:VEVENT
DTEND;VALUE=DATE:20260522
DTSTAMP:20260422T090541Z
DTSTART;VALUE=DATE:20260522
LOCATION:Kingston Mines - Chicago Blues Center\, Chicago
ORGANIZER;CN=:mailto:events@events.org
SEQUENCE:0
SUMMARY:TBD/TBD
UID:edde9ed1-5348-4f21-bbfe-4660ba5da829
URL:https://events.org/e/TBDTBD/9LK5CMIE
BEGIN:VALARM
ACTION:DISPLAY
SUMMARY:Reminder
TRIGGER:-P1D
END:VALARM
END:VEVENT
END:VCALENDAR
