BEGIN:VCALENDAR
METHOD:REQUEST
PRODID:-//events.orgNONSGML ical.net 4.0//EN
VERSION:2.0
BEGIN:VEVENT
DTEND;VALUE=DATE:20260923
DTSTAMP:20260421T104354Z
DTSTART;VALUE=DATE:20260923
LOCATION:Dos Equis Pavilion\, Dallas
ORGANIZER;CN=:mailto:events@events.org
SEQUENCE:0
SUMMARY:BABYMETAL WORLD TOUR 2026
UID:316cabb0-e83a-48ec-9f17-df3f58a8bb9d
URL:https://events.org/e/BABYMETAL-WORLD-TOUR-2026/KB5EB9XK
BEGIN:VALARM
ACTION:DISPLAY
SUMMARY:Reminder
TRIGGER:-P1D
END:VALARM
END:VEVENT
END:VCALENDAR
