BEGIN:VCALENDAR
METHOD:REQUEST
PRODID:-//events.orgNONSGML ical.net 4.0//EN
VERSION:2.0
BEGIN:VEVENT
DTEND;VALUE=DATE:20260428
DTSTAMP:20260424T080614Z
DTSTART;VALUE=DATE:20260428
LOCATION:Broadhurst Theatre \, New York
ORGANIZER;CN=:mailto:events@events.org
SEQUENCE:0
SUMMARY:CATS: The Jellicle Ball
UID:62a14a0e-86b1-4ca7-9630-c0bba556e832
URL:https://events.org/e/CATS-The-Jellicle-Ball/23A86UF8
BEGIN:VALARM
ACTION:DISPLAY
SUMMARY:Reminder
TRIGGER:-P1D
END:VALARM
END:VEVENT
END:VCALENDAR
