BEGIN:VCALENDAR
METHOD:REQUEST
PRODID:-//events.orgNONSGML ical.net 4.0//EN
VERSION:2.0
BEGIN:VEVENT
DTEND;VALUE=DATE:20260426
DTSTAMP:20260424T080614Z
DTSTART;VALUE=DATE:20260426
LOCATION:Sony Hall\, New York
ORGANIZER;CN=:mailto:events@events.org
SEQUENCE:0
SUMMARY:Ruslan KD - Godly Ambition Tour
UID:4d147f4e-0ea3-4e8c-ab7f-8965c8bec514
URL:https://events.org/e/Ruslan-KD---Godly-Ambition-Tour/LO95RG3U
BEGIN:VALARM
ACTION:DISPLAY
SUMMARY:Reminder
TRIGGER:-P1D
END:VALARM
END:VEVENT
END:VCALENDAR
