BEGIN:VCALENDAR
METHOD:REQUEST
PRODID:-//events.orgNONSGML ical.net 4.0//EN
VERSION:2.0
BEGIN:VEVENT
DTEND;VALUE=DATE:20260701
DTSTAMP:20260419T125758Z
DTSTART;VALUE=DATE:20260701
LOCATION:Truist Park\, Atlanta
ORGANIZER;CN=:mailto:events@events.org
SEQUENCE:0
SUMMARY:Atlanta Braves vs. St. Louis Cardinals
UID:b1692058-d8b3-4c1c-b1ea-db32e473ca75
URL:https://events.org/e/Atlanta-Braves-vs-St-Louis-Cardinals/87DJDSD6
BEGIN:VALARM
ACTION:DISPLAY
SUMMARY:Reminder
TRIGGER:-P1D
END:VALARM
END:VEVENT
END:VCALENDAR
