BEGIN:VCALENDAR
METHOD:REQUEST
PRODID:-//events.orgNONSGML ical.net 4.0//EN
VERSION:2.0
BEGIN:VEVENT
DTEND;VALUE=DATE:20260617
DTSTAMP:20260419T123033Z
DTSTART;VALUE=DATE:20260617
LOCATION:Jacobs Music Center\, San Diego
ORGANIZER;CN=:mailto:events@events.org
SEQUENCE:0
SUMMARY:Herb Alpert & The Tijuana Brass & Other Delights
UID:7ba5d961-ff3c-4f29-b22d-eb7295cd63a0
URL:https://events.org/e/Herb-Alpert-The-Tijuana-Brass-Other-Delights/IL52
 GJMT
BEGIN:VALARM
ACTION:DISPLAY
SUMMARY:Reminder
TRIGGER:-P1D
END:VALARM
END:VEVENT
END:VCALENDAR
