BEGIN:VCALENDAR
METHOD:REQUEST
PRODID:-//events.orgNONSGML ical.net 4.0//EN
VERSION:2.0
BEGIN:VEVENT
DTEND;VALUE=DATE:20260614
DTSTAMP:20260419T142438Z
DTSTART;VALUE=DATE:20260614
LOCATION:Lincoln Financial Field\, Philadelphia
ORGANIZER;CN=:mailto:events@events.org
SEQUENCE:0
SUMMARY:World Cup: Match 9 ??? Group E - Ivory Coast vs Ecuador
UID:49fd3fb2-4a75-4273-919b-883682740180
URL:https://events.org/e/World-Cup-Match-9-Group-E---Ivory-Coast-vs-Ecuado
 r/KB5V59EN
BEGIN:VALARM
ACTION:DISPLAY
SUMMARY:Reminder
TRIGGER:-P1D
END:VALARM
END:VEVENT
END:VCALENDAR
