BEGIN:VCALENDAR
METHOD:REQUEST
PRODID:-//events.orgNONSGML ical.net 4.0//EN
VERSION:2.0
BEGIN:VEVENT
DTEND;VALUE=DATE:20260801
DTSTAMP:20260422T090446Z
DTSTART;VALUE=DATE:20260801
LOCATION:Toyota Center - TX\, Houston
ORGANIZER;CN=:mailto:events@events.org
SEQUENCE:0
SUMMARY:Hot Wheels Monster Trucks Live Glow-N-Fire
UID:73f527b9-8345-480d-9097-19018ab60c54
URL:https://events.org/e/Hot-Wheels-Monster-Trucks-Live-Glow-N-Fire/TWQSMA
 YI
BEGIN:VALARM
ACTION:DISPLAY
SUMMARY:Reminder
TRIGGER:-P1D
END:VALARM
END:VEVENT
END:VCALENDAR
