BEGIN:VCALENDAR
METHOD:REQUEST
PRODID:-//events.orgNONSGML ical.net 4.0//EN
VERSION:2.0
BEGIN:VEVENT
DTEND;VALUE=DATE:20260421
DTSTAMP:20260421T082725Z
DTSTART;VALUE=DATE:20260421
LOCATION:Winter Garden Theatre\, New York
ORGANIZER;CN=:mailto:events@events.org
SEQUENCE:0
SUMMARY:Arthur Miller's Death of a Salesman
UID:3864d413-c283-4f8e-99f5-e8551fb04315
URL:https://events.org/e/Arthur-Millers-Death-of-a-Salesman/I9JUMQ93
BEGIN:VALARM
ACTION:DISPLAY
SUMMARY:Reminder
TRIGGER:-P1D
END:VALARM
END:VEVENT
END:VCALENDAR
