BEGIN:VCALENDAR
METHOD:REQUEST
PRODID:-//events.orgNONSGML ical.net 4.0//EN
VERSION:2.0
BEGIN:VEVENT
DTEND;VALUE=DATE:20260521
DTSTAMP:20260422T090851Z
DTSTART;VALUE=DATE:20260521
LOCATION:Reggies Rock Club\, Chicago
ORGANIZER;CN=:mailto:events@events.org
SEQUENCE:0
SUMMARY:Tom Kenny & the Hi-Seas\, Expo'76
UID:ccc22f30-b4ac-42b5-8df7-a7aff9a2be9e
URL:https://events.org/e/Tom-Kenny-the-Hi-Seas-Expo76/LACSLWUR
BEGIN:VALARM
ACTION:DISPLAY
SUMMARY:Reminder
TRIGGER:-P1D
END:VALARM
END:VEVENT
END:VCALENDAR
