BEGIN:VCALENDAR
METHOD:REQUEST
PRODID:-//events.orgNONSGML ical.net 4.0//EN
VERSION:2.0
BEGIN:VEVENT
DTEND;VALUE=DATE:20260530
DTSTAMP:20260419T142750Z
DTSTART;VALUE=DATE:20260530
LOCATION:The Church Nightclub\, Denver
ORGANIZER;CN=:mailto:events@events.org
SEQUENCE:0
SUMMARY:Valentino Khan
UID:9c5f72b0-7730-4b03-951b-35665c9accc5
URL:https://events.org/e/Valentino-Khan/3SVLWPMX
BEGIN:VALARM
ACTION:DISPLAY
SUMMARY:Reminder
TRIGGER:-P1D
END:VALARM
END:VEVENT
END:VCALENDAR
