BEGIN:VCALENDAR
METHOD:REQUEST
PRODID:-//events.orgNONSGML ical.net 4.0//EN
VERSION:2.0
BEGIN:VEVENT
DTEND;VALUE=DATE:20261226
DTSTAMP:20260422T084600Z
DTSTART;VALUE=DATE:20261226
LOCATION:Benchmark International Arena\, Tampa
ORGANIZER;CN=:mailto:events@events.org
SEQUENCE:0
SUMMARY:Jim Gaffigan: Everything is Wonderful
UID:327c0473-9028-4dae-b6c9-7dad84146e70
URL:https://events.org/e/Jim-Gaffigan-Everything-is-Wonderful/7RYQNCVX
BEGIN:VALARM
ACTION:DISPLAY
SUMMARY:Reminder
TRIGGER:-P1D
END:VALARM
END:VEVENT
END:VCALENDAR
