BEGIN:VCALENDAR
METHOD:REQUEST
PRODID:-//events.orgNONSGML ical.net 4.0//EN
VERSION:2.0
BEGIN:VEVENT
DTEND;VALUE=DATE:20260613
DTSTAMP:20260423T133335Z
DTSTART;VALUE=DATE:20260613
LOCATION:The Regency Ballroom\, San Francisco
ORGANIZER;CN=:mailto:events@events.org
SEQUENCE:0
SUMMARY:VTSS - Ages: 18+
UID:795df094-6e17-4f51-b2e1-ac9909f9df76
URL:https://events.org/e/VTSS---Ages-18/CMSR336G
BEGIN:VALARM
ACTION:DISPLAY
SUMMARY:Reminder
TRIGGER:-P1D
END:VALARM
END:VEVENT
END:VCALENDAR
