BEGIN:VCALENDAR
METHOD:REQUEST
PRODID:-//events.orgNONSGML ical.net 4.0//EN
VERSION:2.0
BEGIN:VEVENT
DTEND;VALUE=DATE:20260428
DTSTAMP:20260424T080630Z
DTSTART;VALUE=DATE:20260428
LOCATION:Westside Theatre Upstairs\, New York
ORGANIZER;CN=:mailto:events@events.org
SEQUENCE:0
SUMMARY:Little Shop Of Horrors
UID:4beb1a60-9685-450b-b41d-71adb320e640
URL:https://events.org/e/Little-Shop-Of-Horrors/UEK97NJO
BEGIN:VALARM
ACTION:DISPLAY
SUMMARY:Reminder
TRIGGER:-P1D
END:VALARM
END:VEVENT
END:VCALENDAR
