BEGIN:VCALENDAR
METHOD:REQUEST
PRODID:-//events.orgNONSGML ical.net 4.0//EN
VERSION:2.0
BEGIN:VEVENT
DTEND;VALUE=DATE:20260514
DTSTAMP:20260424T092047Z
DTSTART;VALUE=DATE:20260514
LOCATION:Walter Studios\, Phoenix
ORGANIZER;CN=:mailto:events@events.org
SEQUENCE:0
SUMMARY:Blade Rave: A Vampire Themed Rave (21 and Over)
UID:18389c20-2111-4823-b70b-156fc931bce2
URL:https://events.org/e/Blade-Rave-A-Vampire-Themed-Rave-21-and-Over/IHR3
 M7BL
BEGIN:VALARM
ACTION:DISPLAY
SUMMARY:Reminder
TRIGGER:-P1D
END:VALARM
END:VEVENT
END:VCALENDAR
