BEGIN:VCALENDAR
METHOD:REQUEST
PRODID:-//events.orgNONSGML ical.net 4.0//EN
VERSION:2.0
BEGIN:VEVENT
DTEND;VALUE=DATE:20260524
DTSTAMP:20260422T085722Z
DTSTART;VALUE=DATE:20260524
LOCATION:The Chicago Theatre Tour Experience\, Chicago
ORGANIZER;CN=:mailto:events@events.org
SEQUENCE:0
SUMMARY:The Chicago Theatre Tour Experience
UID:a14744c1-bd34-4647-aa5d-716fbae413c8
URL:https://events.org/e/The-Chicago-Theatre-Tour-Experience/WP8SEF7J
BEGIN:VALARM
ACTION:DISPLAY
SUMMARY:Reminder
TRIGGER:-P1D
END:VALARM
END:VEVENT
END:VCALENDAR
