BEGIN:VCALENDAR
METHOD:REQUEST
PRODID:-//events.orgNONSGML ical.net 4.0//EN
VERSION:2.0
BEGIN:VEVENT
DTEND;VALUE=DATE:20260424
DTSTAMP:20260422T091309Z
DTSTART;VALUE=DATE:20260424
LOCATION:Orpheum Theatre NYC\, New York
ORGANIZER;CN=:mailto:events@events.org
SEQUENCE:0
SUMMARY:11 to Midnight
UID:2ad32423-6c2e-4b6c-a238-e83b120417d2
URL:https://events.org/e/11-to-Midnight/X9VSYXG8
BEGIN:VALARM
ACTION:DISPLAY
SUMMARY:Reminder
TRIGGER:-P1D
END:VALARM
END:VEVENT
END:VCALENDAR
