BEGIN:VCALENDAR
METHOD:REQUEST
PRODID:-//events.orgNONSGML ical.net 4.0//EN
VERSION:2.0
BEGIN:VEVENT
DTEND;VALUE=DATE:20260626
DTSTAMP:20260421T104012Z
DTSTART;VALUE=DATE:20260626
LOCATION:Citizens Bank Park\, Philadelphia
ORGANIZER;CN=:mailto:events@events.org
SEQUENCE:0
SUMMARY:Noah Kahan: The Great Divide Tour
UID:8638feb9-d46b-45b4-8c35-639b45a25690
URL:https://events.org/e/Noah-Kahan-The-Great-Divide-Tour/KCBDGWOT
BEGIN:VALARM
ACTION:DISPLAY
SUMMARY:Reminder
TRIGGER:-P1D
END:VALARM
END:VEVENT
END:VCALENDAR
