BEGIN:VCALENDAR
METHOD:REQUEST
PRODID:-//events.orgNONSGML ical.net 4.0//EN
VERSION:2.0
BEGIN:VEVENT
DTEND;VALUE=DATE:20260421
DTSTAMP:20260419T130104Z
DTSTART;VALUE=DATE:20260421
LOCATION:Birdland Theater\, New York
ORGANIZER;CN=:mailto:events@events.org
SEQUENCE:0
SUMMARY:Vince Giordano and the Nighthawks
UID:9c806f73-abba-41f0-97c3-861843d31abf
URL:https://events.org/e/Vince-Giordano-and-the-Nighthawks/QSDDHKB2
BEGIN:VALARM
ACTION:DISPLAY
SUMMARY:Reminder
TRIGGER:-P1D
END:VALARM
END:VEVENT
END:VCALENDAR
