BEGIN:VCALENDAR
METHOD:REQUEST
PRODID:-//events.orgNONSGML ical.net 4.0//EN
VERSION:2.0
BEGIN:VEVENT
DTEND;VALUE=DATE:20260504
DTSTAMP:20260425T231158Z
DTSTART;VALUE=DATE:20260504
LOCATION:Warfield\, San Francisco
ORGANIZER;CN=:mailto:events@events.org
SEQUENCE:0
SUMMARY:Snail Mail w/ Rocket
UID:d875acbc-10e5-4edf-b316-c99c08f785ad
URL:https://events.org/e/Snail-Mail-w-Rocket/BH7E94M6
BEGIN:VALARM
ACTION:DISPLAY
SUMMARY:Reminder
TRIGGER:-P1D
END:VALARM
END:VEVENT
END:VCALENDAR
