BEGIN:VCALENDAR
METHOD:REQUEST
PRODID:-//events.orgNONSGML ical.net 4.0//EN
VERSION:2.0
BEGIN:VEVENT
DTEND;VALUE=DATE:20260610
DTSTAMP:20260423T154439Z
DTSTART;VALUE=DATE:20260610
LOCATION:Guthrie Theater - Wurtele Thrust Stage\, Minneapolis
ORGANIZER;CN=:mailto:events@events.org
SEQUENCE:0
SUMMARY:Little Women
UID:91ae9cba-3833-4585-922d-a66dac67ce49
URL:https://events.org/e/Little-Women/A9PVK5BB
BEGIN:VALARM
ACTION:DISPLAY
SUMMARY:Reminder
TRIGGER:-P1D
END:VALARM
END:VEVENT
END:VCALENDAR
