BEGIN:VCALENDAR
METHOD:REQUEST
PRODID:-//events.orgNONSGML ical.net 4.0//EN
VERSION:2.0
BEGIN:VEVENT
DTEND;VALUE=DATE:20260518
DTSTAMP:20260419T130352Z
DTSTART;VALUE=DATE:20260518
LOCATION:Second City-Chicago: Mainstage\, Chicago
ORGANIZER;CN=:mailto:events@events.org
SEQUENCE:0
SUMMARY:The Best of The Second City
UID:7e86277d-ff66-4fe6-aaad-1f8d3cf1677e
URL:https://events.org/e/The-Best-of-The-Second-City/3XY5RTUE
BEGIN:VALARM
ACTION:DISPLAY
SUMMARY:Reminder
TRIGGER:-P1D
END:VALARM
END:VEVENT
END:VCALENDAR
