BEGIN:VCALENDAR
METHOD:REQUEST
PRODID:-//events.orgNONSGML ical.net 4.0//EN
VERSION:2.0
BEGIN:VEVENT
DTEND;VALUE=DATE:20260430
DTSTAMP:20260421T114625Z
DTSTART;VALUE=DATE:20260430
LOCATION:Summit Music Hall\, Denver
ORGANIZER;CN=:mailto:events@events.org
SEQUENCE:0
SUMMARY:Two Friends Red Rocks Pre-Party - 18+
UID:bebf5e42-bf3c-42d9-9b61-7397e3e03588
URL:https://events.org/e/Two-Friends-Red-Rocks-Pre-Party---18/9CL7S5FW
BEGIN:VALARM
ACTION:DISPLAY
SUMMARY:Reminder
TRIGGER:-P1D
END:VALARM
END:VEVENT
END:VCALENDAR
