BEGIN:VCALENDAR
METHOD:REQUEST
PRODID:-//events.orgNONSGML ical.net 4.0//EN
VERSION:2.0
BEGIN:VEVENT
DTEND;VALUE=DATE:20260809
DTSTAMP:20260421T081826Z
DTSTART;VALUE=DATE:20260809
LOCATION:Guthrie Theater - Wurtele Thrust Stage\, Minneapolis
ORGANIZER;CN=:mailto:events@events.org
SEQUENCE:0
SUMMARY:Private Lives (Recommended 13 and Over)
UID:8e35a3a1-be94-4253-b8d6-d32ad028d6ed
URL:https://events.org/e/Private-Lives-Recommended-13-and-Over/LC48KES8
BEGIN:VALARM
ACTION:DISPLAY
SUMMARY:Reminder
TRIGGER:-P1D
END:VALARM
END:VEVENT
END:VCALENDAR
