BEGIN:VCALENDAR
METHOD:REQUEST
PRODID:-//events.orgNONSGML ical.net 4.0//EN
VERSION:2.0
BEGIN:VEVENT
DTEND;VALUE=DATE:20260517
DTSTAMP:20260421T082140Z
DTSTART;VALUE=DATE:20260517
LOCATION:The Auditorium\, Chicago
ORGANIZER;CN=:mailto:events@events.org
SEQUENCE:0
SUMMARY:An Afternoon With David  Sedaris
UID:202438c1-2ec7-4e76-b1b6-45e031e4d9a0
URL:https://events.org/e/An-Afternoon-With-David-Sedaris/8IXJLQKI
BEGIN:VALARM
ACTION:DISPLAY
SUMMARY:Reminder
TRIGGER:-P1D
END:VALARM
END:VEVENT
END:VCALENDAR
