BEGIN:VCALENDAR
METHOD:REQUEST
PRODID:-//events.orgNONSGML ical.net 4.0//EN
VERSION:2.0
BEGIN:VEVENT
DTEND;VALUE=DATE:20260508
DTSTAMP:20260423T134305Z
DTSTART;VALUE=DATE:20260508
LOCATION:Palace Theatre\, Los Angeles
ORGANIZER;CN=:mailto:events@events.org
SEQUENCE:0
SUMMARY:Netflix Is A Joke Presents: The Kevin Langue Show
UID:fde498da-0af2-4c16-8d48-5c6ea9ee6b88
URL:https://events.org/e/Netflix-Is-A-Joke-Presents-The-Kevin-Langue-Show/
 4EBL7PXX
BEGIN:VALARM
ACTION:DISPLAY
SUMMARY:Reminder
TRIGGER:-P1D
END:VALARM
END:VEVENT
END:VCALENDAR
