BEGIN:VCALENDAR
METHOD:REQUEST
PRODID:-//events.orgNONSGML ical.net 4.0//EN
VERSION:2.0
BEGIN:VEVENT
DTEND;VALUE=DATE:20261007
DTSTAMP:20260422T084212Z
DTSTART;VALUE=DATE:20261007
LOCATION:Orpheum Theatre\, Minneapolis
ORGANIZER;CN=:mailto:events@events.org
SEQUENCE:0
SUMMARY:BECK: RIDE LONESOME TOUR
UID:e534f76c-8e8e-4c0e-8146-063a4cd5dce6
URL:https://events.org/e/BECK-RIDE-LONESOME-TOUR/LPPEBDIP
BEGIN:VALARM
ACTION:DISPLAY
SUMMARY:Reminder
TRIGGER:-P1D
END:VALARM
END:VEVENT
END:VCALENDAR
