BEGIN:VCALENDAR
METHOD:REQUEST
PRODID:-//events.orgNONSGML ical.net 4.0//EN
VERSION:2.0
BEGIN:VEVENT
DTEND;VALUE=DATE:20260526
DTSTAMP:20260421T094819Z
DTSTART;VALUE=DATE:20260526
LOCATION:Synovus Bank Amphitheater at Chastain Park\, Atlanta
ORGANIZER;CN=:mailto:events@events.org
SEQUENCE:0
SUMMARY:Triumph: The Rock & Roll Machine Reloaded Tour
UID:6b29dcea-a017-4be0-8c3c-b764e95dac10
URL:https://events.org/e/Triumph-The-Rock-Roll-Machine-Reloaded-Tour/XXRJ7
 LAL
BEGIN:VALARM
ACTION:DISPLAY
SUMMARY:Reminder
TRIGGER:-P1D
END:VALARM
END:VEVENT
END:VCALENDAR
