BEGIN:VCALENDAR
METHOD:REQUEST
PRODID:-//events.orgNONSGML ical.net 4.0//EN
VERSION:2.0
BEGIN:VEVENT
DTEND;VALUE=DATE:20260426
DTSTAMP:20260421T095118Z
DTSTART;VALUE=DATE:20260426
LOCATION:Garcia's Chicago\, Chicago
ORGANIZER;CN=:mailto:events@events.org
SEQUENCE:0
SUMMARY:Bluegrass Brunch with Andy Miller & the 145s
UID:ce57db04-8401-40a1-afd6-07a1bb639ba4
URL:https://events.org/e/Bluegrass-Brunch-with-Andy-Miller-the-145s/GA4JVJ
 VB
BEGIN:VALARM
ACTION:DISPLAY
SUMMARY:Reminder
TRIGGER:-P1D
END:VALARM
END:VEVENT
END:VCALENDAR
