BEGIN:VCALENDAR
METHOD:REQUEST
PRODID:-//events.orgNONSGML ical.net 4.0//EN
VERSION:2.0
BEGIN:VEVENT
DTEND;VALUE=DATE:20260604
DTSTAMP:20260423T133328Z
DTSTART;VALUE=DATE:20260604
LOCATION:Atlanta Symphony Hall\, Atlanta
ORGANIZER;CN=:mailto:events@events.org
SEQUENCE:0
SUMMARY:Stutzmann + Mahler's Second Symphony
UID:529419ed-da78-4fae-bc84-ed6965ecb74e
URL:https://events.org/e/Stutzmann-Mahlers-Second-Symphony/V2INYS9K
BEGIN:VALARM
ACTION:DISPLAY
SUMMARY:Reminder
TRIGGER:-P1D
END:VALARM
END:VEVENT
END:VCALENDAR
