BEGIN:VCALENDAR
METHOD:REQUEST
PRODID:-//events.orgNONSGML ical.net 4.0//EN
VERSION:2.0
BEGIN:VEVENT
DTEND;VALUE=DATE:20261016
DTSTAMP:20260424T092741Z
DTSTART;VALUE=DATE:20261016
LOCATION:Boch Center Shubert Theatre\, Boston
ORGANIZER;CN=:mailto:events@events.org
SEQUENCE:0
SUMMARY:Here's John Bishop
UID:673c3e5c-f444-4244-b2d9-e7214df80926
URL:https://events.org/e/Heres-John-Bishop/CVRCK4EW
BEGIN:VALARM
ACTION:DISPLAY
SUMMARY:Reminder
TRIGGER:-P1D
END:VALARM
END:VEVENT
END:VCALENDAR
