BEGIN:VCALENDAR
METHOD:REQUEST
PRODID:-//events.orgNONSGML ical.net 4.0//EN
VERSION:2.0
BEGIN:VEVENT
DTEND;VALUE=DATE:20260610
DTSTAMP:20260419T143047Z
DTSTART;VALUE=DATE:20260610
LOCATION:Oracle Park\, San Francisco
ORGANIZER;CN=:mailto:events@events.org
SEQUENCE:0
SUMMARY:San Francisco Giants vs. Washington Nationals
UID:ae09c019-79ad-4e6c-9f81-a4c28dd189e1
URL:https://events.org/e/San-Francisco-Giants-vs-Washington-Nationals/BPDX
 DECY
BEGIN:VALARM
ACTION:DISPLAY
SUMMARY:Reminder
TRIGGER:-P1D
END:VALARM
END:VEVENT
END:VCALENDAR
