BEGIN:VCALENDAR
METHOD:REQUEST
PRODID:-//events.orgNONSGML ical.net 4.0//EN
VERSION:2.0
BEGIN:VEVENT
DTEND;VALUE=DATE:20260626
DTSTAMP:20260422T084420Z
DTSTART;VALUE=DATE:20260626
LOCATION:House of Blues San Diego\, San Diego
ORGANIZER;CN=:mailto:events@events.org
SEQUENCE:0
SUMMARY:Amor Prohibido - Tribute to Selena
UID:555d7f55-6e19-487d-bd9d-639732b44af7
URL:https://events.org/e/Amor-Prohibido---Tribute-to-Selena/2AU83FXY
BEGIN:VALARM
ACTION:DISPLAY
SUMMARY:Reminder
TRIGGER:-P1D
END:VALARM
END:VEVENT
END:VCALENDAR
