BEGIN:VCALENDAR
METHOD:REQUEST
PRODID:-//events.orgNONSGML ical.net 4.0//EN
VERSION:2.0
BEGIN:VEVENT
DTEND;VALUE=DATE:20260629
DTSTAMP:20260424T092327Z
DTSTART;VALUE=DATE:20260629
LOCATION:House of Blues Houston\, Houston
ORGANIZER;CN=:mailto:events@events.org
SEQUENCE:0
SUMMARY:3QUENCY - GIRLS TALK TOUR
UID:b9096b0c-4943-4277-8b86-8eebc1a70a6c
URL:https://events.org/e/3QUENCY---GIRLS-TALK-TOUR/7MBUN5N4
BEGIN:VALARM
ACTION:DISPLAY
SUMMARY:Reminder
TRIGGER:-P1D
END:VALARM
END:VEVENT
END:VCALENDAR
