BEGIN:VCALENDAR
METHOD:REQUEST
PRODID:-//events.orgNONSGML ical.net 4.0//EN
VERSION:2.0
BEGIN:VEVENT
DTEND;VALUE=DATE:20260611
DTSTAMP:20260423T133217Z
DTSTART;VALUE=DATE:20260611
LOCATION:Echostage\, Washington
ORGANIZER;CN=:mailto:events@events.org
SEQUENCE:0
SUMMARY:Hardwell
UID:02f0989c-24d0-413f-bcf3-c63007ecc7fb
URL:https://events.org/e/Hardwell/MW5HVAWD
BEGIN:VALARM
ACTION:DISPLAY
SUMMARY:Reminder
TRIGGER:-P1D
END:VALARM
END:VEVENT
END:VCALENDAR
