BEGIN:VCALENDAR
METHOD:REQUEST
PRODID:-//events.orgNONSGML ical.net 4.0//EN
VERSION:2.0
BEGIN:VEVENT
DTEND;VALUE=DATE:20260427
DTSTAMP:20260423T133335Z
DTSTART;VALUE=DATE:20260427
LOCATION:Bottom Lounge\, Chicago
ORGANIZER;CN=:mailto:events@events.org
SEQUENCE:0
SUMMARY:Unprocessed w/ Allt
UID:1a6c3a93-a569-4470-b821-771f1ce24edb
URL:https://events.org/e/Unprocessed-w-Allt/UYV9U5ET
BEGIN:VALARM
ACTION:DISPLAY
SUMMARY:Reminder
TRIGGER:-P1D
END:VALARM
END:VEVENT
END:VCALENDAR
