BEGIN:VCALENDAR
METHOD:REQUEST
PRODID:-//events.orgNONSGML ical.net 4.0//EN
VERSION:2.0
BEGIN:VEVENT
DTEND;VALUE=DATE:20260522
DTSTAMP:20260422T090954Z
DTSTART;VALUE=DATE:20260522
LOCATION:The Chicago Theatre Tour Experience\, Chicago
ORGANIZER;CN=:mailto:events@events.org
SEQUENCE:0
SUMMARY:The Chicago Theatre Tour Experience
UID:f6279f6a-086f-4b2c-9a74-92e6e18a9473
URL:https://events.org/e/The-Chicago-Theatre-Tour-Experience/7NWMDPIG
BEGIN:VALARM
ACTION:DISPLAY
SUMMARY:Reminder
TRIGGER:-P1D
END:VALARM
END:VEVENT
END:VCALENDAR
