BEGIN:VCALENDAR
METHOD:REQUEST
PRODID:-//events.orgNONSGML ical.net 4.0//EN
VERSION:2.0
BEGIN:VEVENT
DTEND;VALUE=DATE:20260610
DTSTAMP:20260419T142427Z
DTSTART;VALUE=DATE:20260610
LOCATION:Punch Line Comedy Club - San Francisco\, San Francisco
ORGANIZER;CN=:mailto:events@events.org
SEQUENCE:0
SUMMARY:Helen Hong
UID:39e730dd-7af1-4689-9f15-605142fb289e
URL:https://events.org/e/Helen-Hong/4OUJ4M2I
BEGIN:VALARM
ACTION:DISPLAY
SUMMARY:Reminder
TRIGGER:-P1D
END:VALARM
END:VEVENT
END:VCALENDAR
