BEGIN:VCALENDAR
METHOD:REQUEST
PRODID:-//events.orgNONSGML ical.net 4.0//EN
VERSION:2.0
BEGIN:VEVENT
DTEND;VALUE=DATE:20260822
DTSTAMP:20260424T092107Z
DTSTART;VALUE=DATE:20260822
LOCATION:Thunderbird Lounge\, Phoenix
ORGANIZER;CN=:mailto:events@events.org
SEQUENCE:0
SUMMARY:Disintegration: a Goth / Dark Wave Night
UID:cb27f7f2-cb49-4fd7-a087-64be0e353d9f
URL:https://events.org/e/Disintegration-a-Goth-Dark-Wave-Night/YRNPUWHL
BEGIN:VALARM
ACTION:DISPLAY
SUMMARY:Reminder
TRIGGER:-P1D
END:VALARM
END:VEVENT
END:VCALENDAR
