BEGIN:VCALENDAR
METHOD:REQUEST
PRODID:-//events.orgNONSGML ical.net 4.0//EN
VERSION:2.0
BEGIN:VEVENT
DTEND;VALUE=DATE:20260520
DTSTAMP:20260422T090943Z
DTSTART;VALUE=DATE:20260520
LOCATION:Reggies Bananna's Shack \, Chicago
ORGANIZER;CN=:mailto:events@events.org
SEQUENCE:0
SUMMARY:Joy Gamby and Friends!
UID:8069f539-8ae3-46d2-91ff-4651a1fa29ef
URL:https://events.org/e/Joy-Gamby-and-Friends/O8R3DK22
BEGIN:VALARM
ACTION:DISPLAY
SUMMARY:Reminder
TRIGGER:-P1D
END:VALARM
END:VEVENT
END:VCALENDAR
