BEGIN:VCALENDAR
METHOD:REQUEST
PRODID:-//events.orgNONSGML ical.net 4.0//EN
VERSION:2.0
BEGIN:VEVENT
DTEND;VALUE=DATE:20260423
DTSTAMP:20260422T091051Z
DTSTART;VALUE=DATE:20260423
LOCATION:Beacon Theatre\, New York
ORGANIZER;CN=:mailto:events@events.org
SEQUENCE:0
SUMMARY:BERT KREISCHER: PERMISSION TO PARTY
UID:1d66babc-5a65-4181-89b8-fac7af72610c
URL:https://events.org/e/BERT-KREISCHER-PERMISSION-TO-PARTY/KE6UMVA5
BEGIN:VALARM
ACTION:DISPLAY
SUMMARY:Reminder
TRIGGER:-P1D
END:VALARM
END:VEVENT
END:VCALENDAR
