BEGIN:VCALENDAR
METHOD:REQUEST
PRODID:-//events.orgNONSGML ical.net 4.0//EN
VERSION:2.0
BEGIN:VEVENT
DTEND;VALUE=DATE:20260523
DTSTAMP:20260424T080429Z
DTSTART;VALUE=DATE:20260523
LOCATION:The Novo by Microsoft\, Los Angeles
ORGANIZER;CN=:mailto:events@events.org
SEQUENCE:0
SUMMARY:TRUE: An Immersive Cinematic Experience
UID:06143ce1-da53-475f-8fcd-87ba58e21cf3
URL:https://events.org/e/TRUE-An-Immersive-Cinematic-Experience/OPM8QU27
BEGIN:VALARM
ACTION:DISPLAY
SUMMARY:Reminder
TRIGGER:-P1D
END:VALARM
END:VEVENT
END:VCALENDAR
