BEGIN:VCALENDAR
METHOD:REQUEST
PRODID:-//events.orgNONSGML ical.net 4.0//EN
VERSION:2.0
BEGIN:VEVENT
DTEND;VALUE=DATE:20260612
DTSTAMP:20260419T143559Z
DTSTART;VALUE=DATE:20260612
LOCATION:713 Music Hall\, Houston
ORGANIZER;CN=:mailto:events@events.org
SEQUENCE:0
SUMMARY:The Kevin Langue Show Live
UID:69d420c9-944b-4493-a97c-b2746bf4ab68
URL:https://events.org/e/The-Kevin-Langue-Show-Live/NRIY284U
BEGIN:VALARM
ACTION:DISPLAY
SUMMARY:Reminder
TRIGGER:-P1D
END:VALARM
END:VEVENT
END:VCALENDAR
