BEGIN:VCALENDAR
METHOD:REQUEST
PRODID:-//events.orgNONSGML ical.net 4.0//EN
VERSION:2.0
BEGIN:VEVENT
DTEND;VALUE=DATE:20260308
DTSTAMP:20260420T130907Z
DTSTART;VALUE=DATE:20260308
LOCATION:Orpheum Theatre NYC\, New York
ORGANIZER;CN=:mailto:events@events.org
SEQUENCE:0
SUMMARY:11 to Midnight
UID:ed032e1b-b122-4d10-9d72-a2d81fed8d93
URL:https://events.org/e/11-to-Midnight/W2KNQQ86
BEGIN:VALARM
ACTION:DISPLAY
SUMMARY:Reminder
TRIGGER:-P1D
END:VALARM
END:VEVENT
END:VCALENDAR
