BEGIN:VCALENDAR
METHOD:REQUEST
PRODID:-//events.orgNONSGML ical.net 4.0//EN
VERSION:2.0
BEGIN:VEVENT
DTEND;VALUE=DATE:20260711
DTSTAMP:20260422T090646Z
DTSTART;VALUE=DATE:20260711
LOCATION:State Farm Arena\, Atlanta
ORGANIZER;CN=:mailto:events@events.org
SEQUENCE:0
SUMMARY:Tame Impala - The Deadbeat Tour
UID:daba8190-e688-4913-b08b-9a63a662efd1
URL:https://events.org/e/Tame-Impala---The-Deadbeat-Tour/BJX8CGIE
BEGIN:VALARM
ACTION:DISPLAY
SUMMARY:Reminder
TRIGGER:-P1D
END:VALARM
END:VEVENT
END:VCALENDAR
