BEGIN:VCALENDAR
METHOD:REQUEST
PRODID:-//events.orgNONSGML ical.net 4.0//EN
VERSION:2.0
BEGIN:VEVENT
DTEND;VALUE=DATE:20260605
DTSTAMP:20260421T104640Z
DTSTART;VALUE=DATE:20260605
LOCATION:Club Vinyl\, Denver
ORGANIZER;CN=:mailto:events@events.org
SEQUENCE:0
SUMMARY:Prosecute + Nimda: BLOODBOUND
UID:c1b2e573-aeda-41c9-8188-4601cf7f60ca
URL:https://events.org/e/Prosecute-Nimda-BLOODBOUND/UGJ4M4RX
BEGIN:VALARM
ACTION:DISPLAY
SUMMARY:Reminder
TRIGGER:-P1D
END:VALARM
END:VEVENT
END:VCALENDAR
