BEGIN:VCALENDAR
METHOD:REQUEST
PRODID:-//events.orgNONSGML ical.net 4.0//EN
VERSION:2.0
BEGIN:VEVENT
DTEND;VALUE=DATE:20260512
DTSTAMP:20260424T080505Z
DTSTART;VALUE=DATE:20260512
LOCATION:South Side Studios\, Dallas
ORGANIZER;CN=:mailto:events@events.org
SEQUENCE:0
SUMMARY:Balloon Museum | Let's Fly - Art Has No Limits - Dallas
UID:de18ec09-da37-477f-8604-62169351e1ad
URL:https://events.org/e/Balloon-Museum-Lets-Fly---Art-Has-No-Limits--/5PX
 2GVYC
BEGIN:VALARM
ACTION:DISPLAY
SUMMARY:Reminder
TRIGGER:-P1D
END:VALARM
END:VEVENT
END:VCALENDAR
