BEGIN:VCALENDAR
METHOD:REQUEST
PRODID:-//events.orgNONSGML ical.net 4.0//EN
VERSION:2.0
BEGIN:VEVENT
DTEND;VALUE=DATE:20260711
DTSTAMP:20260422T090310Z
DTSTART;VALUE=DATE:20260711
LOCATION:Lakewood Amphitheatre\, Atlanta
ORGANIZER;CN=:mailto:events@events.org
SEQUENCE:0
SUMMARY:NE-YO & AKON: Nights Like This Tour 2026
UID:722bd3fe-6c62-4a96-aee7-468c7f76d5b9
URL:https://events.org/e/NE-YO-AKON-Nights-Like-This-Tour-2026/9FXBSER2
BEGIN:VALARM
ACTION:DISPLAY
SUMMARY:Reminder
TRIGGER:-P1D
END:VALARM
END:VEVENT
END:VCALENDAR
