BEGIN:VCALENDAR
METHOD:REQUEST
PRODID:-//events.orgNONSGML ical.net 4.0//EN
VERSION:2.0
BEGIN:VEVENT
DTEND;VALUE=DATE:20260609
DTSTAMP:20260421T104513Z
DTSTART;VALUE=DATE:20260609
LOCATION:Meow Wolf Denver\, Denver
ORGANIZER;CN=:mailto:events@events.org
SEQUENCE:0
SUMMARY:Ásgeir
UID:213373d2-01c3-4d40-a0d4-a3f2069136f9
URL:https://events.org/e/Asgeir/JINQSSUF
BEGIN:VALARM
ACTION:DISPLAY
SUMMARY:Reminder
TRIGGER:-P1D
END:VALARM
END:VEVENT
END:VCALENDAR
